BEGIN:VCALENDAR
VERSION:2.0
PRODID:-//Barrhaven United Church - ECPv5.1.1//NONSGML v1.0//EN
CALSCALE:GREGORIAN
METHOD:PUBLISH
X-WR-CALNAME:Barrhaven United Church
X-ORIGINAL-URL:http://35.182.213.234
X-WR-CALDESC:Events for Barrhaven United Church
BEGIN:VTIMEZONE
TZID:America/Toronto
BEGIN:DAYLIGHT
TZOFFSETFROM:-0500
TZOFFSETTO:-0400
TZNAME:EDT
DTSTART:20250309T070000
END:DAYLIGHT
BEGIN:STANDARD
TZOFFSETFROM:-0400
TZOFFSETTO:-0500
TZNAME:EST
DTSTART:20251102T060000
END:STANDARD
END:VTIMEZONE
BEGIN:VEVENT
DTSTART;TZID=America/Toronto:20250212T123000
DTEND;TZID=America/Toronto:20250212T143000
DTSTAMP:20260426T034017
CREATED:20250122T164045Z
LAST-MODIFIED:20250122T164045Z
UID:27190-1739363400-1739370600@35.182.213.234
SUMMARY:Victoria's Quilts
DESCRIPTION:Join the group to pin and prep quilts for those recieving cancer treatment. The second Wednesday of the month in BUC hall. \n
URL:http://35.182.213.234/event/victorias-quilts-3/
CATEGORIES:Outreach
END:VEVENT
END:VCALENDAR