BEGIN:VCALENDAR
VERSION:2.0
PRODID:-//Barrhaven United Church - ECPv5.1.1//NONSGML v1.0//EN
CALSCALE:GREGORIAN
METHOD:PUBLISH
X-WR-CALNAME:Barrhaven United Church
X-ORIGINAL-URL:http://35.182.213.234
X-WR-CALDESC:Events for Barrhaven United Church
BEGIN:VTIMEZONE
TZID:America/Toronto
BEGIN:DAYLIGHT
TZOFFSETFROM:-0500
TZOFFSETTO:-0400
TZNAME:EDT
DTSTART:20250309T070000
END:DAYLIGHT
BEGIN:STANDARD
TZOFFSETFROM:-0400
TZOFFSETTO:-0500
TZNAME:EST
DTSTART:20251102T060000
END:STANDARD
END:VTIMEZONE
BEGIN:VEVENT
DTSTART;TZID=America/Toronto:20251130T093000
DTEND;TZID=America/Toronto:20251130T120000
DTSTAMP:20260425T122058
CREATED:20250917T195645Z
LAST-MODIFIED:20250923T170338Z
UID:27590-1764495000-1764504000@35.182.213.234
SUMMARY:UCC 100th Anniversary Quilt
DESCRIPTION:The quilt created for the 100th Anniversary of the United Church of Canada\, made from blocks sewn by various congregations in the Eastern Ontario and Outaouais Region\, will be on display at BUC today before and after the service. Look for the block designed by members from BUC! \n
URL:http://35.182.213.234/event/ucc-100th-anniversary-quilt/
END:VEVENT
END:VCALENDAR