BEGIN:VCALENDAR
VERSION:2.0
PRODID:-//Barrhaven United Church - ECPv5.1.1//NONSGML v1.0//EN
CALSCALE:GREGORIAN
METHOD:PUBLISH
X-WR-CALNAME:Barrhaven United Church
X-ORIGINAL-URL:http://35.182.213.234
X-WR-CALDESC:Events for Barrhaven United Church
BEGIN:VTIMEZONE
TZID:America/Toronto
BEGIN:DAYLIGHT
TZOFFSETFROM:-0500
TZOFFSETTO:-0400
TZNAME:EDT
DTSTART:20250309T070000
END:DAYLIGHT
BEGIN:STANDARD
TZOFFSETFROM:-0400
TZOFFSETTO:-0500
TZNAME:EST
DTSTART:20251102T060000
END:STANDARD
END:VTIMEZONE
BEGIN:VEVENT
DTSTART;TZID=America/Toronto:20251215T100000
DTEND;TZID=America/Toronto:20251215T113000
DTSTAMP:20260425T104305
CREATED:20250923T165218Z
LAST-MODIFIED:20250923T165218Z
UID:27602-1765792800-1765798200@35.182.213.234
SUMMARY:Social Connections
DESCRIPTION:Join friends old and new for a time of fellowship\, connection and fun at 1000 am in the BUC hall. \n
URL:http://35.182.213.234/event/social-connections-8/
CATEGORIES:Social Connections
END:VEVENT
END:VCALENDAR