BEGIN:VCALENDAR
VERSION:2.0
PRODID:-//Barrhaven United Church - ECPv5.1.1//NONSGML v1.0//EN
CALSCALE:GREGORIAN
METHOD:PUBLISH
X-WR-CALNAME:Barrhaven United Church
X-ORIGINAL-URL:http://35.182.213.234
X-WR-CALDESC:Events for Barrhaven United Church
BEGIN:VTIMEZONE
TZID:America/Toronto
BEGIN:DAYLIGHT
TZOFFSETFROM:-0500
TZOFFSETTO:-0400
TZNAME:EDT
DTSTART:20250309T070000
END:DAYLIGHT
BEGIN:STANDARD
TZOFFSETFROM:-0400
TZOFFSETTO:-0500
TZNAME:EST
DTSTART:20251102T060000
END:STANDARD
END:VTIMEZONE
BEGIN:VEVENT
DTSTART;TZID=America/Toronto:20250210T100000
DTEND;TZID=America/Toronto:20250210T113000
DTSTAMP:20260426T015020
CREATED:20250129T160324Z
LAST-MODIFIED:20250129T160324Z
UID:27230-1739181600-1739187000@35.182.213.234
SUMMARY:Social Connections
DESCRIPTION:Come for a social time to meet new friends and catch up with old friends. \n
URL:http://35.182.213.234/event/social-connections-3/
LOCATION:25495
END:VEVENT
END:VCALENDAR