BEGIN:VCALENDAR
VERSION:2.0
PRODID:-//Barrhaven United Church - ECPv5.1.1//NONSGML v1.0//EN
CALSCALE:GREGORIAN
METHOD:PUBLISH
X-WR-CALNAME:Barrhaven United Church
X-ORIGINAL-URL:http://35.182.213.234
X-WR-CALDESC:Events for Barrhaven United Church
BEGIN:VTIMEZONE
TZID:America/Toronto
BEGIN:DAYLIGHT
TZOFFSETFROM:-0500
TZOFFSETTO:-0400
TZNAME:EDT
DTSTART:20250309T070000
END:DAYLIGHT
BEGIN:STANDARD
TZOFFSETFROM:-0400
TZOFFSETTO:-0500
TZNAME:EST
DTSTART:20251102T060000
END:STANDARD
END:VTIMEZONE
BEGIN:VEVENT
DTSTART;TZID=America/Toronto:20250304T164500
DTEND;TZID=America/Toronto:20250304T183000
DTSTAMP:20260425T200350
CREATED:20250224T160459Z
LAST-MODIFIED:20250224T160459Z
UID:27307-1741106700-1741113000@35.182.213.234
SUMMARY:Pancake Supper
DESCRIPTION:Sittings at 4:45pm and 5:45pm\, sign up sheet in the Narthex \nChild up to 12 years old $6.00\, Adult\, 12 and up\, $12.00\, Family of 4 $30.00 \n
URL:http://35.182.213.234/event/pancake-supper/
LOCATION:25495
CATEGORIES:Life and Work
END:VEVENT
END:VCALENDAR