BEGIN:VCALENDAR
VERSION:2.0
PRODID:-//Barrhaven United Church - ECPv5.1.1//NONSGML v1.0//EN
CALSCALE:GREGORIAN
METHOD:PUBLISH
X-WR-CALNAME:Barrhaven United Church
X-ORIGINAL-URL:http://35.182.213.234
X-WR-CALDESC:Events for Barrhaven United Church
BEGIN:VTIMEZONE
TZID:America/Toronto
BEGIN:DAYLIGHT
TZOFFSETFROM:-0500
TZOFFSETTO:-0400
TZNAME:EDT
DTSTART:20250309T070000
END:DAYLIGHT
BEGIN:STANDARD
TZOFFSETFROM:-0400
TZOFFSETTO:-0500
TZNAME:EST
DTSTART:20251102T060000
END:STANDARD
END:VTIMEZONE
BEGIN:VEVENT
DTSTART;TZID=America/Toronto:20250714T080000
DTEND;TZID=America/Toronto:20250714T170000
DTSTAMP:20260425T194200
CREATED:20250702T143943Z
LAST-MODIFIED:20250702T144658Z
UID:27457-1752480000-1752512400@35.182.213.234
SUMMARY:Office closed Mondays
DESCRIPTION:
URL:http://35.182.213.234/event/office-closed-mondays/
END:VEVENT
END:VCALENDAR