BEGIN:VCALENDAR
VERSION:2.0
PRODID:-//Barrhaven United Church - ECPv5.1.1//NONSGML v1.0//EN
CALSCALE:GREGORIAN
METHOD:PUBLISH
X-WR-CALNAME:Barrhaven United Church
X-ORIGINAL-URL:http://35.182.213.234
X-WR-CALDESC:Events for Barrhaven United Church
BEGIN:VTIMEZONE
TZID:America/Toronto
BEGIN:DAYLIGHT
TZOFFSETFROM:-0500
TZOFFSETTO:-0400
TZNAME:EDT
DTSTART:20250309T070000
END:DAYLIGHT
BEGIN:STANDARD
TZOFFSETFROM:-0400
TZOFFSETTO:-0500
TZNAME:EST
DTSTART:20251102T060000
END:STANDARD
END:VTIMEZONE
BEGIN:VEVENT
DTSTART;TZID=America/Toronto:20251114T183000
DTEND;TZID=America/Toronto:20251114T210000
DTSTAMP:20260425T122353
CREATED:20250818T184322Z
LAST-MODIFIED:20250818T184322Z
UID:27497-1763145000-1763154000@35.182.213.234
SUMMARY:Musicians for Odenak concert series
DESCRIPTION:An evening with the Nepean choir and the Manotick Brass Ensemble. Wear your Poppy! \n
URL:http://35.182.213.234/event/musicians-for-odenak-concert-series-2/
END:VEVENT
END:VCALENDAR