BEGIN:VCALENDAR
VERSION:2.0
PRODID:-//Barrhaven United Church - ECPv5.1.1//NONSGML v1.0//EN
CALSCALE:GREGORIAN
METHOD:PUBLISH
X-WR-CALNAME:Barrhaven United Church
X-ORIGINAL-URL:http://35.182.213.234
X-WR-CALDESC:Events for Barrhaven United Church
BEGIN:VTIMEZONE
TZID:America/Toronto
BEGIN:DAYLIGHT
TZOFFSETFROM:-0500
TZOFFSETTO:-0400
TZNAME:EDT
DTSTART:20250309T070000
END:DAYLIGHT
BEGIN:STANDARD
TZOFFSETFROM:-0400
TZOFFSETTO:-0500
TZNAME:EST
DTSTART:20251102T060000
END:STANDARD
END:VTIMEZONE
BEGIN:VEVENT
DTSTART;TZID=America/Toronto:20250315T083000
DTEND;TZID=America/Toronto:20250315T100000
DTSTAMP:20260425T232350
CREATED:20250209T191208Z
LAST-MODIFIED:20250209T191208Z
UID:27276-1742027400-1742032800@35.182.213.234
SUMMARY:Men's Breakfast
DESCRIPTION:The men of Barrhaven are invited to a monthly informal breakfast gathering\, which is held at a local restaurant the third Saturday of each month. If you are interested in being added to the list\, please advise Barry Finlay at bjfinlay22@gmail.com. \n
URL:http://35.182.213.234/event/mens-breakfast-3/
END:VEVENT
END:VCALENDAR