BEGIN:VCALENDAR
VERSION:2.0
PRODID:-//Barrhaven United Church - ECPv5.1.1//NONSGML v1.0//EN
CALSCALE:GREGORIAN
METHOD:PUBLISH
X-WR-CALNAME:Barrhaven United Church
X-ORIGINAL-URL:http://35.182.213.234
X-WR-CALDESC:Events for Barrhaven United Church
BEGIN:VTIMEZONE
TZID:America/Toronto
BEGIN:DAYLIGHT
TZOFFSETFROM:-0500
TZOFFSETTO:-0400
TZNAME:EDT
DTSTART:20250309T070000
END:DAYLIGHT
BEGIN:STANDARD
TZOFFSETFROM:-0400
TZOFFSETTO:-0500
TZNAME:EST
DTSTART:20251102T060000
END:STANDARD
END:VTIMEZONE
BEGIN:VEVENT
DTSTART;TZID=America/Toronto:20250427T100000
DTEND;TZID=America/Toronto:20250427T110000
DTSTAMP:20260425T230544
CREATED:20250418T162340Z
LAST-MODIFIED:20250418T162340Z
UID:27390-1745748000-1745751600@35.182.213.234
SUMMARY:Holy Humour Sunday\,  April 27\, 10am
DESCRIPTION:“Elbows Up\, Eh! Bring your family friendly jokes to share during the worship service. Dress up in sports themed attire or Canadian inspired items. Join in the fun! \n
URL:http://35.182.213.234/event/holy-humour-sunday-april-27-10am/
LOCATION:25495
END:VEVENT
END:VCALENDAR