BEGIN:VCALENDAR
VERSION:2.0
PRODID:-//Barrhaven United Church - ECPv5.1.1//NONSGML v1.0//EN
CALSCALE:GREGORIAN
METHOD:PUBLISH
X-WR-CALNAME:Barrhaven United Church
X-ORIGINAL-URL:http://35.182.213.234
X-WR-CALDESC:Events for Barrhaven United Church
BEGIN:VTIMEZONE
TZID:America/Toronto
BEGIN:DAYLIGHT
TZOFFSETFROM:-0500
TZOFFSETTO:-0400
TZNAME:EDT
DTSTART:20250309T070000
END:DAYLIGHT
BEGIN:STANDARD
TZOFFSETFROM:-0400
TZOFFSETTO:-0500
TZNAME:EST
DTSTART:20251102T060000
END:STANDARD
END:VTIMEZONE
BEGIN:VEVENT
DTSTART;TZID=America/Toronto:20251130T100000
DTEND;TZID=America/Toronto:20251130T110000
DTSTAMP:20260425T104748
CREATED:20251114T211820Z
LAST-MODIFIED:20251119T160304Z
UID:27664-1764496800-1764500400@35.182.213.234
SUMMARY:Advent 1 Hanging of the Greens
DESCRIPTION:1st Sunday of Advent – the Hanging of the Greens\, a cherished tradition as we ready our worship space for Advent.  \n
URL:http://35.182.213.234/event/hanging-of-the-greens/
END:VEVENT
END:VCALENDAR