BEGIN:VCALENDAR
VERSION:2.0
PRODID:-//Barrhaven United Church - ECPv5.1.1//NONSGML v1.0//EN
CALSCALE:GREGORIAN
METHOD:PUBLISH
X-WR-CALNAME:Barrhaven United Church
X-ORIGINAL-URL:http://35.182.213.234
X-WR-CALDESC:Events for Barrhaven United Church
BEGIN:VTIMEZONE
TZID:America/Toronto
BEGIN:DAYLIGHT
TZOFFSETFROM:-0500
TZOFFSETTO:-0400
TZNAME:EDT
DTSTART:20260308T070000
END:DAYLIGHT
BEGIN:STANDARD
TZOFFSETFROM:-0400
TZOFFSETTO:-0500
TZNAME:EST
DTSTART:20261101T060000
END:STANDARD
END:VTIMEZONE
BEGIN:VEVENT
DTSTART;TZID=America/Toronto:20260424T170000
DTEND;TZID=America/Toronto:20260424T203000
DTSTAMP:20260424T223348
CREATED:20260216T234125Z
LAST-MODIFIED:20260216T234125Z
UID:27886-1777050000-1777062600@35.182.213.234
SUMMARY:Guess who is coming to dinner?
DESCRIPTION:Sign up to host or attend. $35.00 per person\, fundraising for refugee settlement. More info in Narthex. \n
URL:http://35.182.213.234/event/guess-who-is-coming-to-dinner/
CATEGORIES:Outreach
END:VEVENT
END:VCALENDAR