BEGIN:VCALENDAR
VERSION:2.0
PRODID:-//Barrhaven United Church - ECPv5.1.1//NONSGML v1.0//EN
CALSCALE:GREGORIAN
METHOD:PUBLISH
X-WR-CALNAME:Barrhaven United Church
X-ORIGINAL-URL:http://35.182.213.234
X-WR-CALDESC:Events for Barrhaven United Church
BEGIN:VTIMEZONE
TZID:America/Toronto
BEGIN:DAYLIGHT
TZOFFSETFROM:-0500
TZOFFSETTO:-0400
TZNAME:EDT
DTSTART:20250309T070000
END:DAYLIGHT
BEGIN:STANDARD
TZOFFSETFROM:-0400
TZOFFSETTO:-0500
TZNAME:EST
DTSTART:20251102T060000
END:STANDARD
END:VTIMEZONE
BEGIN:VEVENT
DTSTART;TZID=America/Toronto:20250816T200000
DTEND;TZID=America/Toronto:20250816T213000
DTSTAMP:20260425T142219
CREATED:20250805T174623Z
LAST-MODIFIED:20250808T203952Z
UID:27482-1755374400-1755379800@35.182.213.234
SUMMARY:Community Movie Night
DESCRIPTION: Family movie “Paddington in Peru” will be the feature. Everyone is invited to bring a lawnchair or blanket\, the movie starts about 8:00pm on the lawn beside the Church. Presented by Sequoia Church and BUC. This community event is open to everyone. The Sequoia fun cruiser will make an appearance as well. \n
URL:http://35.182.213.234/event/community-movie-night/
CATEGORIES:Outreach
END:VEVENT
END:VCALENDAR