BEGIN:VCALENDAR
VERSION:2.0
PRODID:-//Barrhaven United Church - ECPv5.1.1//NONSGML v1.0//EN
CALSCALE:GREGORIAN
METHOD:PUBLISH
X-WR-CALNAME:Barrhaven United Church
X-ORIGINAL-URL:http://35.182.213.234
X-WR-CALDESC:Events for Barrhaven United Church
BEGIN:VTIMEZONE
TZID:America/Toronto
BEGIN:DAYLIGHT
TZOFFSETFROM:-0500
TZOFFSETTO:-0400
TZNAME:EDT
DTSTART:20250309T070000
END:DAYLIGHT
BEGIN:STANDARD
TZOFFSETFROM:-0400
TZOFFSETTO:-0500
TZNAME:EST
DTSTART:20251102T060000
END:STANDARD
END:VTIMEZONE
BEGIN:VEVENT
DTSTART;TZID=America/Toronto:20250112T110000
DTEND;TZID=America/Toronto:20250112T113000
DTSTAMP:20260426T012123
CREATED:20241229T204428Z
LAST-MODIFIED:20241229T204428Z
UID:27132-1736679600-1736681400@35.182.213.234
SUMMARY:Coffee time
DESCRIPTION:An opportunity to welcome new and newer persons and families and meet one another after worship. \n
URL:http://35.182.213.234/event/coffee-time/
END:VEVENT
END:VCALENDAR