BEGIN:VCALENDAR
VERSION:2.0
PRODID:-//Barrhaven United Church - ECPv5.1.1//NONSGML v1.0//EN
CALSCALE:GREGORIAN
METHOD:PUBLISH
X-WR-CALNAME:Barrhaven United Church
X-ORIGINAL-URL:http://35.182.213.234
X-WR-CALDESC:Events for Barrhaven United Church
BEGIN:VTIMEZONE
TZID:America/Toronto
BEGIN:DAYLIGHT
TZOFFSETFROM:-0500
TZOFFSETTO:-0400
TZNAME:EDT
DTSTART:20250309T070000
END:DAYLIGHT
BEGIN:STANDARD
TZOFFSETFROM:-0400
TZOFFSETTO:-0500
TZNAME:EST
DTSTART:20251102T060000
END:STANDARD
END:VTIMEZONE
BEGIN:VEVENT
DTSTART;TZID=America/Toronto:20251118T093000
DTEND;TZID=America/Toronto:20251118T103000
DTSTAMP:20260425T104223
CREATED:20250805T175520Z
LAST-MODIFIED:20250805T175520Z
UID:27488-1763458200-1763461800@35.182.213.234
SUMMARY:Book Club
DESCRIPTION:November’s book is “Brighten the Corner Where You Are” by Carol Bruneau. 9:30 am in the music room. \n
URL:http://35.182.213.234/event/book-club-9/
CATEGORIES:Book Club
END:VEVENT
END:VCALENDAR