BEGIN:VCALENDAR
VERSION:2.0
PRODID:-//Barrhaven United Church - ECPv5.1.1//NONSGML v1.0//EN
CALSCALE:GREGORIAN
METHOD:PUBLISH
X-WR-CALNAME:Barrhaven United Church
X-ORIGINAL-URL:http://35.182.213.234
X-WR-CALDESC:Events for Barrhaven United Church
BEGIN:VTIMEZONE
TZID:America/Toronto
BEGIN:DAYLIGHT
TZOFFSETFROM:-0500
TZOFFSETTO:-0400
TZNAME:EDT
DTSTART:20250309T070000
END:DAYLIGHT
BEGIN:STANDARD
TZOFFSETFROM:-0400
TZOFFSETTO:-0500
TZNAME:EST
DTSTART:20251102T060000
END:STANDARD
END:VTIMEZONE
BEGIN:VEVENT
DTSTART;TZID=America/Toronto:20250520T093000
DTEND;TZID=America/Toronto:20250520T110000
DTSTAMP:20260425T211255
CREATED:20250405T200109Z
LAST-MODIFIED:20250405T200109Z
UID:27371-1747733400-1747738800@35.182.213.234
SUMMARY:Book Club
DESCRIPTION:” Shakespeare:  The Guy Who Pays the Rent” by Judi Dench.  Judi Dench serves up priceless revelations on everything from the craft of speaking in verse to her personal interpretations of some of Shakespeare’s most famous scenes\, all brightened by her mischievous sense of humour\, striking level of honesty and a peppering of hilarious anecdotes. (excerpt from Amazon) \n
URL:http://35.182.213.234/event/book-club-6/
LOCATION:music room
CATEGORIES:Book Club
END:VEVENT
END:VCALENDAR