BEGIN:VCALENDAR
VERSION:2.0
PRODID:-//Barrhaven United Church - ECPv5.1.1//NONSGML v1.0//EN
CALSCALE:GREGORIAN
METHOD:PUBLISH
X-WR-CALNAME:Barrhaven United Church
X-ORIGINAL-URL:http://35.182.213.234
X-WR-CALDESC:Events for Barrhaven United Church
BEGIN:VTIMEZONE
TZID:America/Toronto
BEGIN:DAYLIGHT
TZOFFSETFROM:-0500
TZOFFSETTO:-0400
TZNAME:EDT
DTSTART:20250309T070000
END:DAYLIGHT
BEGIN:STANDARD
TZOFFSETFROM:-0400
TZOFFSETTO:-0500
TZNAME:EST
DTSTART:20251102T060000
END:STANDARD
END:VTIMEZONE
BEGIN:VEVENT
DTSTART;TZID=America/Toronto:20250318T093000
DTEND;TZID=America/Toronto:20250318T110000
DTSTAMP:20260425T213831
CREATED:20250209T190713Z
LAST-MODIFIED:20250209T190713Z
UID:27273-1742290200-1742295600@35.182.213.234
SUMMARY:Book Club
DESCRIPTION:“The Luck of Ginger Coffey” by Brian Moore (classic) \nAn out-of-work Irish immigrant in Montreal remains hopeful that his luck is about to change. Buoyed by unfailing optimism\, Ginger confronts the ugly realities of life in the New World and the disillusionment of his family. Join us at 9:30 am in the Music room for discussion and refreshments. (For more info contact Wenda at wmartinho@rogers.com) \n
URL:http://35.182.213.234/event/book-club-4/
CATEGORIES:Book Club
END:VEVENT
END:VCALENDAR